BEGIN:VCALENDAR
VERSION:2.0
PRODID:SchoolNow
CALSCALE:GREGORIAN
BEGIN:VEVENT
UID:d5b166c4-58aa-11ee-967f-0efaf08bf7f9
DTSTAMP:20230927T201622Z
SUMMARY:Career Services Professional Workshop
LOCATION:Lafayette Campus (320 Devalcourt St.) - Devalcourt Lobby
URL;VALUE=URI:https://www.solacc.edu/about-us/calendar/4774450/professional
 -workshop
DTSTART:20231005T150000Z
DTEND:20231005T190000Z
END:VEVENT
END:VCALENDAR
