BEGIN:VCALENDAR
VERSION:2.0
PRODID:SchoolNow
CALSCALE:GREGORIAN
BEGIN:VEVENT
UID:23433794-572c-11ee-a3fd-0a58a9feac02
DTSTAMP:20230919T203557Z
SUMMARY:Social Sciences Career Fair
LOCATION:SLCC - Lafayette Campus\, Devalcourt Auditorium (320 Devalcourt St
 .\, Lafayette)
URL;VALUE=URI:https://www.solacc.edu/about-us/calendar/4762684/social-scien
 ce-career-fair
DTSTART:20231108T150000Z
DTEND:20231108T180000Z
END:VEVENT
END:VCALENDAR
