BEGIN:VCALENDAR
VERSION:2.0
PRODID:SchoolNow
CALSCALE:GREGORIAN
BEGIN:VEVENT
UID:f072e292-572b-11ee-8a4a-0ae2a935c3d5
DTSTAMP:20230919T203432Z
SUMMARY:STEM/ Technical Studies Career Fair
LOCATION:SLCC - Lafayette Campus\, Devalcourt Auditorium (320 Devalcourt St
 .\, Lafayette)
URL;VALUE=URI:https://www.solacc.edu/about-us/calendar/4762683/stem-technic
 al-studies-career-fair
DTSTART:20231102T140000Z
DTEND:20231102T170000Z
END:VEVENT
END:VCALENDAR
