BEGIN:VCALENDAR
VERSION:2.0
PRODID:SchoolNow
CALSCALE:GREGORIAN
BEGIN:VEVENT
UID:dba3d9ec-5722-11ee-8f42-0ad554c62dc1
DTSTAMP:20230919T193028Z
SUMMARY:UL Transfer Visit Day
LOCATION:Lafayette Campus (1101 Bertrand Dr.) - Ardoin Building Rm. 404
URL;VALUE=URI:https://www.solacc.edu/about-us/calendar/4760836/ul-transfer-
 visit-day
DTSTART:20230928T140000Z
DTEND:20230928T170000Z
END:VEVENT
END:VCALENDAR
