BEGIN:VCALENDAR
VERSION:2.0
PRODID:SchoolNow
CALSCALE:GREGORIAN
BEGIN:VEVENT
UID:d7dac89a-5720-11ee-a43a-0a58a9feac02
DTSTAMP:20230922T185811Z
SUMMARY:Study Abroad Virtual Info Session
LOCATION:Online
URL;VALUE=URI:https://www.solacc.edu/about-us/calendar/4760581/study-abroad
 -virtual-info-session
DTSTART:20230927T210000Z
DTEND:20230927T220000Z
END:VEVENT
END:VCALENDAR
