BEGIN:VCALENDAR
VERSION:2.0
PRODID:SchoolNow
CALSCALE:GREGORIAN
BEGIN:VEVENT
UID:67e85dcc-5720-11ee-93de-0a58a9feac02
DTSTAMP:20230922T185705Z
SUMMARY:Study Abroad Info Session
LOCATION:SLCC - Lafayette Campus - Devalcourt Building Room 320A (320 Deval
 court St.).
URL;VALUE=URI:https://www.solacc.edu/about-us/calendar/4760579/study-abroad
 -info-session
DTSTART:20230926T170000Z
DTEND:20230926T180000Z
END:VEVENT
END:VCALENDAR
