BEGIN:VCALENDAR
VERSION:2.0
PRODID:SchoolNow
CALSCALE:GREGORIAN
BEGIN:VEVENT
UID:9ac6ed3c-564c-11ee-aa33-02774828289f
DTSTAMP:20230918T180806Z
SUMMARY:Nursing and Allied Health Career Fair
LOCATION:SLCC - Lafayette Campus\, Devalcourt Auditorium (320 Devalcourt St
 .\, Lafayette)
URL;VALUE=URI:https://www.solacc.edu/about-us/calendar/4754872/nursing-and-
 allied-health-career-fair
DTSTART:20231018T160000Z
DTEND:20231018T190000Z
END:VEVENT
END:VCALENDAR
