BEGIN:VCALENDAR
VERSION:2.0
PRODID:SchoolNow
CALSCALE:GREGORIAN
BEGIN:VEVENT
UID:718e8a16-533f-11ee-8020-0a58a9feac02
DTSTAMP:20230918T213142Z
SUMMARY:Greenberry Industrial Job Fair
LOCATION:SLCC - Acadian Campus\, Room 109 (1933 W. Hutchinson Ave.\, Crowle
 y)
URL;VALUE=URI:https://www.solacc.edu/about-us/calendar/4737716/greenberry-i
 ndustrial-job-fair
DTSTART:20230929T133000Z
DTEND:20230929T190000Z
END:VEVENT
END:VCALENDAR
