BEGIN:VCALENDAR
VERSION:2.0
PRODID:SchoolNow
CALSCALE:GREGORIAN
BEGIN:VEVENT
UID:15fe0ad0-517a-11ee-beb7-0ebfe81b7035
DTSTAMP:20230912T144025Z
SUMMARY:Fall Scholarship Reception
LOCATION:Lafayette Campus\, Devalcourt Auditorium - 320 Devalcourt Street\,
  Lafayette\, LA
URL;VALUE=URI:https://www.solacc.edu/about-us/calendar/4721628/fall-scholar
 ship-reception
DTSTART:20230918T200000Z
DTEND:20230918T213000Z
END:VEVENT
END:VCALENDAR
