BEGIN:VCALENDAR
VERSION:2.0
PRODID:SchoolNow
CALSCALE:GREGORIAN
BEGIN:VEVENT
UID:2f810048-48ec-11ee-be69-0ab250d350db
DTSTAMP:20230901T172254Z
SUMMARY:SGA General Body Meeting
LOCATION:Lafayette Campus (1101 Bertrand Drive) - Health and Science Buildi
 ng Auditorium
URL;VALUE=URI:https://www.solacc.edu/about-us/calendar/4666101/sga-general-
 meeting
DTSTART:20231114T180000Z
DTEND:20231114T190000Z
END:VEVENT
END:VCALENDAR
