BEGIN:VCALENDAR
VERSION:2.0
PRODID:SchoolNow
CALSCALE:GREGORIAN
BEGIN:VEVENT
UID:20f3b778-48ec-11ee-aae3-0a58a9feac02
DTSTAMP:20230901T172229Z
SUMMARY:SGA General Body Meeting
LOCATION:Lafayette Campus (1101 Bertrand Drive) - Health and Science Buildi
 ng Auditorium
URL;VALUE=URI:https://www.solacc.edu/about-us/calendar/4666100/sga-general-
 meeting
DTSTART:20231017T170000Z
DTEND:20231017T180000Z
END:VEVENT
END:VCALENDAR
