BEGIN:VCALENDAR
VERSION:2.0
PRODID:SchoolNow
CALSCALE:GREGORIAN
BEGIN:VEVENT
UID:e0014b5c-48e8-11ee-826f-0eb3b53d545f
DTSTAMP:20230901T172141Z
SUMMARY:SGA General Body Meeting
LOCATION:Lafayette Campus (1101 Bertrand Drive) - Health and Science Buildi
 ng Auditorium
URL;VALUE=URI:https://www.solacc.edu/about-us/calendar/4666097/sga-general-
 meeting
DTSTART:20230912T170000Z
DTEND:20230912T180000Z
END:VEVENT
END:VCALENDAR
