BEGIN:VCALENDAR
VERSION:2.0
PRODID:SchoolNow
CALSCALE:GREGORIAN
BEGIN:VEVENT
UID:3d9aa096-476e-11ee-a5f5-0a58a9feac02
DTSTAMP:20230830T194850Z
SUMMARY:Resume Workshop
LOCATION:Lafayette Campus (1101 Bertrand Dr.) - Ardoin Building Rm. 404
URL;VALUE=URI:https://www.solacc.edu/about-us/calendar/4656030/resume-works
 hop
DTSTART:20231114T170000Z
DTEND:20231114T180000Z
END:VEVENT
END:VCALENDAR
