BEGIN:VCALENDAR
VERSION:2.0
PRODID:SchoolNow
CALSCALE:GREGORIAN
BEGIN:VEVENT
UID:21ffd9be-476e-11ee-82b6-0a58a9feac02
DTSTAMP:20230830T194803Z
SUMMARY:Resume Workshop
LOCATION:Lafayette Campus (1101 Bertrand Dr.) - Ardoin Building Rm. 404
URL;VALUE=URI:https://www.solacc.edu/about-us/calendar/4656029/resume-works
 hop
DTSTART:20231106T180000Z
DTEND:20231106T190000Z
END:VEVENT
END:VCALENDAR
