BEGIN:VCALENDAR
VERSION:2.0
PRODID:SchoolNow
CALSCALE:GREGORIAN
BEGIN:VEVENT
UID:0efc8614-476e-11ee-8753-0a58a9feac02
DTSTAMP:20230830T194947Z
SUMMARY:Resume Workshop (Virtual)
LOCATION:Online
URL;VALUE=URI:https://www.solacc.edu/about-us/calendar/4656028/resume-works
 hop
DTSTART:20231030T150000Z
DTEND:20231030T160000Z
END:VEVENT
END:VCALENDAR
