BEGIN:VCALENDAR
VERSION:2.0
PRODID:SchoolNow
CALSCALE:GREGORIAN
BEGIN:VEVENT
UID:c8baff64-476d-11ee-af35-0ece54762e5b
DTSTAMP:20230830T194548Z
SUMMARY:Resume Workshop
LOCATION:Lafayette Campus (1101 Bertrand Dr.) - Ardoin Building Rm. 404
URL;VALUE=URI:https://www.solacc.edu/about-us/calendar/4656027/resume-works
 hop
DTSTART:20231011T160000Z
DTEND:20231011T170000Z
END:VEVENT
END:VCALENDAR
