BEGIN:VCALENDAR
VERSION:2.0
PRODID:SchoolNow
CALSCALE:GREGORIAN
BEGIN:VEVENT
UID:a0b81bc8-476d-11ee-92a7-0a58a9feac02
DTSTAMP:20230830T194426Z
SUMMARY:Resume Workshop
LOCATION:Lafayette Campus (1101 Bertrand Dr.) - Ardoin Building Rm. 404
URL;VALUE=URI:https://www.solacc.edu/about-us/calendar/4656026/resume-works
 hop
DTSTART:20230926T173000Z
DTEND:20230926T183000Z
END:VEVENT
END:VCALENDAR
