BEGIN:VCALENDAR
VERSION:2.0
PRODID:SchoolNow
CALSCALE:GREGORIAN
BEGIN:VEVENT
UID:ce2bfee6-476b-11ee-91a1-0a58a9feac02
DTSTAMP:20230830T194305Z
SUMMARY:Resume Workshop
LOCATION:Lafayette Campus (1101 Bertrand Dr.) - Ardoin Building Rm. 404
URL;VALUE=URI:https://www.solacc.edu/about-us/calendar/4655991/resume-works
 hop
DTSTART:20230911T180000Z
DTEND:20230911T190000Z
END:VEVENT
END:VCALENDAR
