BEGIN:VCALENDAR
VERSION:2.0
PRODID:SchoolNow
CALSCALE:GREGORIAN
BEGIN:VEVENT
UID:5007a744-32fe-11ee-b96a-020e34789605
DTSTAMP:20230804T194115Z
SUMMARY:Meet and Greet Poppin
LOCATION:SLCC Lafayette - Devalcourt and Ardoin Buildings (1101 Bertrand Dr
 .\, Lafayette)
URL;VALUE=URI:https://www.solacc.edu/about-us/calendar/4547665/meet-and-gre
 et-poppin
DTSTART:20230814T140000Z
DTEND:20230815T170000Z
END:VEVENT
END:VCALENDAR
