BEGIN:VCALENDAR
VERSION:2.0
PRODID:SchoolNow
CALSCALE:GREGORIAN
BEGIN:VEVENT
UID:c7219de6-20e1-11ee-a08c-0e4d1906bd6b
DTSTAMP:20230712T210747Z
SUMMARY:Franklin & Young Memorial (Morgan City) Campuses Open House
LOCATION:Franklin Campus (1013 Perret St.\, Franklin)
URL;VALUE=URI:https://www.solacc.edu/about-us/calendar/4490507/franklin-cam
 pus-open-house
DTSTART:20230725T150000Z
DTEND:20230725T170000Z
END:VEVENT
END:VCALENDAR
