BEGIN:VCALENDAR
VERSION:2.0
PRODID:SchoolNow
CALSCALE:GREGORIAN
BEGIN:VEVENT
UID:5bad9cfc-1788-11ee-a717-02aacb1b1b65
DTSTAMP:20230630T205520Z
SUMMARY:Young Memorial (Morgan City) Campus Open House
LOCATION:Young Memorial Campus (900 Youngs Rd\, Morgan City)
URL;VALUE=URI:https://www.solacc.edu/about-us/calendar/4457664/young-memori
 al-morgan-city-campus-open-house
DTSTART:20230707T140000Z
DTEND:20230707T160000Z
END:VEVENT
END:VCALENDAR
