BEGIN:VCALENDAR
VERSION:2.0
PRODID:SchoolNow
CALSCALE:GREGORIAN
BEGIN:VEVENT
UID:a11e36f0-04b1-11ee-a231-021f1b36993f
DTSTAMP:20230606T213413Z
SUMMARY:Industrial Trades Job Fair
LOCATION:SLCC Lafayette Campus (320 Devalcourt St.\, Lafayette)
URL;VALUE=URI:https://www.solacc.edu/about-us/calendar/4359332/industrial-t
 rades-job-fair
DTSTART:20230809T140000Z
DTEND:20230809T170000Z
END:VEVENT
END:VCALENDAR
