BEGIN:VCALENDAR
VERSION:2.0
PRODID:SchoolNow
CALSCALE:GREGORIAN
BEGIN:VEVENT
UID:fc859e64-03c3-11ee-a7da-0ac36cd08425
DTSTAMP:20230605T173407Z
SUMMARY:Adult Education Open Registration
LOCATION:Adult Ed Suite\, 2nd floor\, Lafayette Campus\, 320 Devalcourt Str
 eet
URL;VALUE=URI:https://www.solacc.edu/about-us/calendar/4353764/adult-educat
 ion-open-registration
DTSTART:20230705T140000Z
DTEND:20230706T200000Z
END:VEVENT
END:VCALENDAR
