BEGIN:VCALENDAR
VERSION:2.0
PRODID:SchoolNow
CALSCALE:GREGORIAN
BEGIN:VEVENT
UID:b853cd56-f4f0-11ed-afcd-0253324ec5a7
DTSTAMP:20230620T192625Z
SUMMARY:FALL 2023 SCHOLARSHIP APPLICATIONS DUE JULY 7TH!
URL;VALUE=URI:https://www.solacc.edu/about-us/calendar/4258306/fall-2023-sc
 holarship-applications-due
DTSTART;VALUE=DATE:20230620
DTEND;VALUE=DATE:20230708
END:VEVENT
END:VCALENDAR
