BEGIN:VCALENDAR
VERSION:2.0
PRODID:SchoolNow
CALSCALE:GREGORIAN
BEGIN:VEVENT
UID:3a63e784-e9ea-11ed-8522-0a205e508533
DTSTAMP:20230719T170939Z
SUMMARY:Louisiana Association of Institutional Research Conference
LOCATION:Lafayette Campus - Devalcourt Auditorium (320 Devalcourt St.\, Laf
 ayette)
URL;VALUE=URI:https://www.solacc.edu/about-us/calendar/4176295/louisiana-as
 sociation-of-institutional-research-conference
DTSTART:20230725T140000Z
DTEND:20230726T220000Z
END:VEVENT
END:VCALENDAR
