BEGIN:VCALENDAR
VERSION:2.0
PRODID:SchoolNow
CALSCALE:GREGORIAN
BEGIN:VEVENT
UID:09c26800-e826-11ed-b2aa-0a4a0a2ed059
DTSTAMP:20230629T142955Z
SUMMARY:Medical Assistant Program Information Session
LOCATION:Online
URL;VALUE=URI:https://www.solacc.edu/about-us/calendar/4161990/medical-assi
 stant-program-information-session
DTSTART:20230710T150000Z
DTEND:20230710T160000Z
END:VEVENT
END:VCALENDAR
