BEGIN:VCALENDAR
VERSION:2.0
PRODID:SchoolNow
CALSCALE:GREGORIAN
BEGIN:VEVENT
UID:f7d2c15c-d250-11ed-a9e8-0aeda80c06b3
DTSTAMP:20230403T185431Z
SUMMARY:C.B. Coreil (Ville Platte) Nursing\, Allied Health\, & Welding Fair
LOCATION:C.B. Coreil Campus (1124 Vocational Drive\, Ville Platte\, LA)
URL;VALUE=URI:https://www.solacc.edu/about-us/calendar/3974749/c-b-coreil-v
 ille-platte-nursing-allied-health-welding-fair
DTSTART:20230420T150000Z
DTEND:20230420T170000Z
END:VEVENT
END:VCALENDAR
