BEGIN:VCALENDAR
VERSION:2.0
PRODID:SchoolNow
CALSCALE:GREGORIAN
BEGIN:VEVENT
UID:a428828a-d250-11ed-a241-0aeda80c06b3
DTSTAMP:20230403T185211Z
SUMMARY:The Gulf Area (Abbeville) Career Fair
LOCATION:Gulf Area Campus (1115 Clover Street\, Abbeville\, LA)
URL;VALUE=URI:https://www.solacc.edu/about-us/calendar/3974746/the-gulf-are
 a-abbeville-career-fair
DTSTART:20230417T140000Z
DTEND:20230417T170000Z
END:VEVENT
END:VCALENDAR
