BEGIN:VCALENDAR
VERSION:2.0
PRODID:SchoolNow
CALSCALE:GREGORIAN
BEGIN:VEVENT
UID:77ab3290-ca79-11ed-8b64-0aa64c7a0155
DTSTAMP:20230324T212747Z
SUMMARY:CC Week - Community College Informational - Acadian Campus
LOCATION:Acadian Campus - 1933 W. Hutchinson Ave. in Crowley
URL;VALUE=URI:https://www.solacc.edu/about-us/calendar/3917885/acadian-info
 rmational
DTSTART:20230330T190000Z
DTEND:20230330T210000Z
END:VEVENT
END:VCALENDAR
