BEGIN:VCALENDAR
VERSION:2.0
PRODID:SchoolNow
CALSCALE:GREGORIAN
BEGIN:VEVENT
UID:87cfe556-ca62-11ed-abc9-029cf25a9fc7
DTSTAMP:20230324T192436Z
SUMMARY:CC Week - Community College Informational - C.B. Coreil Campus
LOCATION:C.B. Coreil Campus - 1124 Vocational Dr. in Ville Platte
URL;VALUE=URI:https://www.solacc.edu/about-us/calendar/3917842/cb-coreil-in
 formational
DTSTART:20230330T140000Z
DTEND:20230330T160000Z
END:VEVENT
END:VCALENDAR
