BEGIN:VCALENDAR
VERSION:2.0
PRODID:SchoolNow
CALSCALE:GREGORIAN
BEGIN:VEVENT
UID:28e244f4-ca52-11ed-993e-0efc68e0a92d
DTSTAMP:20230324T161508Z
SUMMARY:CC Week - Lafayette Campus Preview Day
LOCATION:Lafayette Campus - Devalcourt Auditorium
URL;VALUE=URI:https://www.solacc.edu/about-us/calendar/3917822/lafayette-pr
 eview-day
DTSTART:20230328T170000Z
DTEND:20230328T190000Z
END:VEVENT
END:VCALENDAR
