BEGIN:VCALENDAR
VERSION:2.0
PRODID:SchoolNow
CALSCALE:GREGORIAN
BEGIN:VEVENT
UID:8bdd04b0-c8cf-11ed-9ca8-0a67dafaaa99
DTSTAMP:20230428T145829Z
SUMMARY:CC Week - Student Success Live Acadian - 3/31/23 at 9:00 am
LOCATION:Acadian Campus - 1933 W. Hutchinson Ave. in Crowley
URL;VALUE=URI:https://www.solacc.edu/about-us/calendar/3907534/cc-week-acad
 ian-campus-student-success-live-0331
DTSTART:20230331T140000Z
DTEND:20230331T160000Z
END:VEVENT
END:VCALENDAR
