BEGIN:VCALENDAR
VERSION:2.0
PRODID:SchoolNow
CALSCALE:GREGORIAN
BEGIN:VEVENT
UID:733a3202-c8cf-11ed-9fbe-0a67dafaaa99
DTSTAMP:20230428T145907Z
SUMMARY:CC Week - Student Success Live Acadian - 3/31/23 at 2:00 pm
LOCATION:Acadian Campus - 1933 W. Hutchinson Ave. in Crowley
URL;VALUE=URI:https://www.solacc.edu/about-us/calendar/3907533/cc-week-acad
 ian-campus-student-success-live-0331-2
DTSTART:20230331T190000Z
DTEND:20230331T210000Z
END:VEVENT
END:VCALENDAR
