BEGIN:VCALENDAR
VERSION:2.0
PRODID:SchoolNow
CALSCALE:GREGORIAN
BEGIN:VEVENT
UID:667482f8-c8ce-11ed-abd5-0a67dafaaa99
DTSTAMP:20230428T145753Z
SUMMARY:CC Week - Student Success Live Acadian- 3/29/23 at 2:00 pm
LOCATION:Acadian Campus - 1933 W. Hutchinson Ave. in Crowley
URL;VALUE=URI:https://www.solacc.edu/about-us/calendar/3907532/cc-week-acad
 ian-campus-student-success-live-0329-2
DTSTART:20230329T190000Z
DTEND:20230329T210000Z
END:VEVENT
END:VCALENDAR
