BEGIN:VCALENDAR
VERSION:2.0
PRODID:SchoolNow
CALSCALE:GREGORIAN
BEGIN:VEVENT
UID:2900ab40-c8ce-11ed-80bf-0a67dafaaa99
DTSTAMP:20230428T145717Z
SUMMARY:CC Week - Student Success Live Acadian - 3/29/23 at 9:00 am
LOCATION:Acadian Campus - 1933 W. Hutchinson Ave. in Crowley
URL;VALUE=URI:https://www.solacc.edu/about-us/calendar/3907524/cc-week-acad
 ian-campus-student-success-live-0329
DTSTART:20230329T140000Z
DTEND:20230329T160000Z
END:VEVENT
END:VCALENDAR
