BEGIN:VCALENDAR
VERSION:2.0
PRODID:SchoolNow
CALSCALE:GREGORIAN
BEGIN:VEVENT
UID:3668c8ca-c8c5-11ed-b665-0a7050b6b577
DTSTAMP:20230322T152227Z
SUMMARY:CC Week - Student Success Live C.B. Coreil
LOCATION:C.B. Coreil Campus - 1124 Vocational Dr. in Ville Platte
URL;VALUE=URI:https://www.solacc.edu/about-us/calendar/3907507/cb-coreil-ca
 mpus-student-success-live-0328
DTSTART:20230328T140000Z
DTEND:20230328T160000Z
END:VEVENT
END:VCALENDAR
