BEGIN:VCALENDAR
VERSION:2.0
PRODID:SchoolNow
CALSCALE:GREGORIAN
BEGIN:VEVENT
UID:32a0d86e-c8c4-11ed-be4e-0a7050b6b577
DTSTAMP:20230322T151736Z
SUMMARY:CC Week - Student Success Live T.H. Harris (NTD)
LOCATION:TH Harris Campus - 332 East South St. in Opelousas
URL;VALUE=URI:https://www.solacc.edu/about-us/calendar/3907506/cc-week-th-h
 arris-campus-student-success-live-0329
DTSTART:20230329T190000Z
DTEND:20230329T210000Z
END:VEVENT
END:VCALENDAR
