BEGIN:VCALENDAR
VERSION:2.0
PRODID:SchoolNow
CALSCALE:GREGORIAN
BEGIN:VEVENT
UID:5ff65dd0-c8c3-11ed-be9c-0a7050b6b577
DTSTAMP:20230322T150911Z
SUMMARY:CC Week - Student Success Live Gulf Area
LOCATION:Gulf Area Campus - 1115 Clover St. in Abbeville
URL;VALUE=URI:https://www.solacc.edu/about-us/calendar/3907505/gulf-area-ca
 mpus-student-success-live-0330
DTSTART:20230330T193000Z
DTEND:20230330T213000Z
END:VEVENT
END:VCALENDAR
