BEGIN:VCALENDAR
VERSION:2.0
PRODID:SchoolNow
CALSCALE:GREGORIAN
BEGIN:VEVENT
UID:9afcb5ba-c8c2-11ed-b37b-0a7050b6b577
DTSTAMP:20230322T150504Z
SUMMARY:CC Week - Student Success Live Gulf Area
LOCATION:Gulf Area Campus - 1115 Clover St. in Abbeville
URL;VALUE=URI:https://www.solacc.edu/about-us/calendar/3907504/gulf-area-ca
 mpus-student-success-live-0328
DTSTART:20230328T210000Z
DTEND:20230328T223000Z
END:VEVENT
END:VCALENDAR
