BEGIN:VCALENDAR
VERSION:2.0
PRODID:SchoolNow
CALSCALE:GREGORIAN
BEGIN:VEVENT
UID:cbff2928-c8c1-11ed-8dd2-0a7050b6b577
DTSTAMP:20230322T150319Z
SUMMARY:CC Week - Student Success Live New Iberia
LOCATION:New Iberia Campus - 908 Ember Dr.
URL;VALUE=URI:https://www.solacc.edu/about-us/calendar/3907503/cc-week-new-
 iberia-campus-student-success-live-0329
DTSTART:20230329T180000Z
DTEND:20230329T210000Z
END:VEVENT
END:VCALENDAR
