BEGIN:VCALENDAR
VERSION:2.0
PRODID:SchoolNow
CALSCALE:GREGORIAN
BEGIN:VEVENT
UID:c75140fc-c8bf-11ed-ae80-0e11d774200d
DTSTAMP:20230322T150342Z
SUMMARY:CC Week - Student Success Live Evangeline
LOCATION:Evangeline Campus - 6305 Main Highway in St. Martinville
URL;VALUE=URI:https://www.solacc.edu/about-us/calendar/3907502/cc-week-evan
 geline-campus-student-success-live-0329
DTSTART:20230329T210000Z
DTEND:20230329T220000Z
END:VEVENT
END:VCALENDAR
