BEGIN:VCALENDAR
VERSION:2.0
PRODID:SchoolNow
CALSCALE:GREGORIAN
BEGIN:VEVENT
UID:30268724-c8be-11ed-ae42-0a065a7cc7ff
DTSTAMP:20230322T150437Z
SUMMARY:CC Week - Student Success Live Evangeline
LOCATION:Evangeline Campus - 6305 Main Highway in St. Martinville
URL;VALUE=URI:https://www.solacc.edu/about-us/calendar/3907495/cc-week-evan
 geline-campus-student-success-live
DTSTART:20230328T143000Z
DTEND:20230328T163000Z
END:VEVENT
END:VCALENDAR
