BEGIN:VCALENDAR
VERSION:2.0
PRODID:SchoolNow
CALSCALE:GREGORIAN
BEGIN:VEVENT
UID:69a0becc-c8bc-11ed-ade7-027764fc5003
DTSTAMP:20230322T141839Z
SUMMARY:CC Week - SLCC Spirit Day
URL;VALUE=URI:https://www.solacc.edu/about-us/calendar/3907489/slcc-spirit-
 day
DTSTART;VALUE=DATE:20230327
DTEND;VALUE=DATE:20230328
ATTACH;FILENAME=Community College Week - Spirit Day.png;FMTTYPE=image/png:h
 ttps://campussuite-storage.s3.amazonaws.com/prod/1558538/0d9d10fa-02cc-11e
 8-8e76-12c998a55b1c/2571087/5c69eeea-c8bc-11ed-bbbe-027764fc5003/file/Comm
 unity College Week - Spirit Day.png
END:VEVENT
END:VCALENDAR
