BEGIN:VCALENDAR
VERSION:2.0
PRODID:SchoolNow
CALSCALE:GREGORIAN
BEGIN:VEVENT
UID:bcc07656-c754-11ed-95a6-0a2fe8d84095
DTSTAMP:20230322T153432Z
SUMMARY:CC Week - Student Success Live Lafayette
LOCATION:Lafayette Campus - 1101 Bertrand Drive - in the Health & Sciences
  building\, Room 106 & 108.
URL;VALUE=URI:https://www.solacc.edu/about-us/calendar/3897599/student-succ
 ess-live-0330
DTSTART:20230330T213000Z
DTEND:20230331T003000Z
END:VEVENT
END:VCALENDAR
