BEGIN:VCALENDAR
VERSION:2.0
PRODID:SchoolNow
CALSCALE:GREGORIAN
BEGIN:VEVENT
UID:af330e9a-c754-11ed-aec4-0a2fe8d84095
DTSTAMP:20230322T153146Z
SUMMARY:CC Week - Student Success Live Lafayette
LOCATION:Lafayette Campus - 1101 Bertrand Drive - in the Health & Sciences
  building\, Room 106 & 108.
URL;VALUE=URI:https://www.solacc.edu/about-us/calendar/3897598/student-succ
 ess-live-0328
DTSTART:20230328T183000Z
DTEND:20230328T213000Z
END:VEVENT
END:VCALENDAR
