BEGIN:VCALENDAR
VERSION:2.0
PRODID:SchoolNow
CALSCALE:GREGORIAN
BEGIN:VEVENT
UID:3cd2747e-c36e-11ed-81ea-029fddbb0f07
DTSTAMP:20230315T202454Z
SUMMARY:CC Week - T.H. Harris Career & Transfer Fair
LOCATION:SLCC T.H. Harris Campus
URL;VALUE=URI:https://www.solacc.edu/about-us/calendar/3873612/cc-week-t-h-
 harris-career-transfer-fair
DTSTART:20230327T140000Z
DTEND:20230327T160000Z
END:VEVENT
END:VCALENDAR
