BEGIN:VCALENDAR
VERSION:2.0
PRODID:SchoolNow
CALSCALE:GREGORIAN
BEGIN:VEVENT
UID:06f769b2-ac81-11ed-ac12-0e0005ac852d
DTSTAMP:20230316T172950Z
SUMMARY:Industrial Trades Job Fair
LOCATION:SLCC New Iberia Campus (908 Ember Dr.\, New Iberia)
URL;VALUE=URI:https://www.solacc.edu/about-us/calendar/3744493/industrial-t
 rades-job-fair
DTSTART:20230418T140000Z
DTEND:20230418T170000Z
END:VEVENT
END:VCALENDAR
