BEGIN:VCALENDAR
VERSION:2.0
PRODID:SchoolNow
CALSCALE:GREGORIAN
BEGIN:VEVENT
UID:f762c4c8-a0c9-11ed-8bb0-02355b2ebc07
DTSTAMP:20230201T170327Z
SUMMARY:FAFSA Workshop
LOCATION:Lafayette Campus - Ardoin Building\, Room 100
URL;VALUE=URI:https://www.solacc.edu/about-us/calendar/3701636/fafsa-worksh
 op-clone
DTSTART:20230222T200000Z
DTEND:20230222T213000Z
END:VEVENT
END:VCALENDAR
