BEGIN:VCALENDAR
VERSION:2.0
PRODID:SchoolNow
CALSCALE:GREGORIAN
BEGIN:VEVENT
UID:d8af9a60-a0c9-11ed-adf2-02355b2ebc07
DTSTAMP:20230201T170205Z
SUMMARY:FAFSA Workshop
LOCATION:Lafayette Campus - Ardoin Building\, Room 100
URL;VALUE=URI:https://www.solacc.edu/about-us/calendar/3701622/fafsa-worksh
 op
DTSTART:20230209T160000Z
DTEND:20230209T173000Z
END:VEVENT
END:VCALENDAR
