BEGIN:VCALENDAR
VERSION:2.0
PRODID:SchoolNow
CALSCALE:GREGORIAN
BEGIN:VEVENT
UID:75f5f036-0907-11ed-af23-02679c9b5d8d
DTSTAMP:20220824T190002Z
SUMMARY:Industrial Trades Job Fair
LOCATION:SLCC Devalcourt Auditorium - 320 Devalcourt St.\, Lafayette
URL;VALUE=URI:https://www.solacc.edu/about-us/calendar/3251193/industrial-t
 rades-job-fair
DTSTART:20220825T140000Z
DTEND:20220825T170000Z
END:VEVENT
END:VCALENDAR
